BEGIN:VCALENDAR
VERSION:2.0
PRODID:-//hacksw/handcal//NONSGML v1.0//EN
BEGIN:VEVENT
SUMMARY:RAPPEL  -  SAINT LAURENT LES EGLISES : "Sur les traces des egliseurs" avec restaurant le midi au Pont du Dognon J 2 AVRIL 2026
UID:6a8471a7-4ad2-4cb3-befe-a37e8857c7f5
DTSTART:20260401T220000Z
DTEND:20260402T220000Z
LOCATION:Localisation   
CATEGORIES:Sportif
STATUS:
DESCRIPTION:<p><span style="color:#c0392b;"> Attention changement de
 lieu de rdv pour le grand parcours (probleme de
 stationnement)</span></p>
 
 <p>Niveau : facile  -  10 km ou 5 km (au
 choix)avec enigmes sur les deux parcours</p>
 
 <p>Rendez vous :
 <u>grand parcours 10 km</u> : 8h30 a l'office du tourisme de St
 Leo</p>
 
 <p>    Changement de rendez vous :    <span
 style="color:#2980b9;"> ou 9h00  Regroupement au parking du
 restaurant du pont de dognon pour stationner et se regrouper dans les
 voitures. Depart de la rando : direction la Jonchere St Maurice,
 intersection la Prade.</span></p>
 
 <p>                   
     <u> petit parcours 5 km </u>: 9h a l'Office du tourisme de St
 Leo.</p>
 
 <p>                                     
                     ou 9h15 cimetiere du Chatenet en
 Dognon.</p>
 
 <p>Repas du midi au restaurant du Pont de Dognon <span
 style="color:#c0392b;"> reponse<u> avant le 24 Mars</u> ( nombre de
 places limite) voir coupon ci-dessous a joindre a votre paiement
 .</span></p>
 
 <p>Repas: aperitif, entree, plat, fromage, dessert, vin
 de table compris, cafe ou the offert  :   25€</p>
 
 <p>Le club
 prend 10€ ( pour les adherents). Il reste 15€ a votre charge
 payable a l'inscription aupres de Josiane ou Chantal
 L.</p>
 
 <p>Covoiturage : 2 €  ( 32 km aller retour
 )</p>
 
 <p>Responsables : Chantal L  (06 98 51 86 18)  -  Paule (06
 34 23 00 81) - Martine T, Josiane     
 ---------------------------------------------------------------------------------------------------------------------------------------------</p>
 
 <p>NOM
 : ..................................................   PRENOM :
 .....................................................</p>
 
 <p>Participe
 a la rando :   OUI      NON      10km     ou        5
 km     (entourer votre reponse)</p>
 
 <p>Participe au repas  : 
   OUI       NON    Nombre de repas : .......  X   15 € 
  = ........</p>
 
 <p>a remettre a Chantal L ou Josiane au 34 ou 32
 rue de Beaufort a St
 Leo</p>
 
 <p>------------------------------------------------------------------------------------------------------------------------------------</p>
 
 <p> </p>
 
 <p> </p>
URL;VALUE=URI:https://miauletourando.sportsregions.fr/evenements/2026/04/02/rappel-saint-laurent-les-eglises-sur-les-traces-des-egliseurs-avec-restaurant-le-midi-au-pont-du-dognon-j-2-avril-2026-2396904
END:VEVENT
END:VCALENDAR
