BEGIN:VCALENDAR
VERSION:2.0
PRODID:-//hacksw/handcal//NONSGML v1.0//EN
BEGIN:VEVENT
SUMMARY:GR Monts et Barrages J septembre 2026
UID:d55a5278-0b2e-4cc6-a225-28d6b5f02b08
DTSTART:20260916T220000Z
DTEND:20260917T220000Z
LOCATION:Localisation   
CATEGORIES:Sportif
STATUS:
DESCRIPTION:<p><span style="color:#c0392b;">Le circuit n'etant pas
 une boucle il est necessaire de s'inscrire pour organiser le
 covoiturage.</span></p>
 
 <p>Info a venir</p>
URL;VALUE=URI:https://miauletourando.sportsregions.fr/evenements/2026/09/17/gr-monts-et-barrages-j-septembre-2026-2428521
END:VEVENT
END:VCALENDAR
