BEGIN:VCALENDAR
VERSION:2.0
PRODID:-//hacksw/handcal//NONSGML v1.0//EN
BEGIN:VEVENT
SUMMARY:GR Monts et Barrages J 15 octobre 2026
UID:4676305a-9a9e-49ae-9f3b-49c30241a86e
DTSTART:20261014T220000Z
DTEND:20261015T220000Z
LOCATION:Localisation   
CATEGORIES:Sportif
STATUS:
DESCRIPTION:<p><span style="color:#c0392b;">Le circuit n'etant pas
 une boucle il est necessaire de s'inscrire pour organiser le
 covoiturage.</span></p>
 
 <p>iNFO a venir</p>
URL;VALUE=URI:https://miauletourando.sportsregions.fr/evenements/2026/10/15/gr-monts-et-barrages-j-15-octobre-2026-2428518
END:VEVENT
END:VCALENDAR
