BEGIN:VCALENDAR
VERSION:2.0
PRODID:-//hacksw/handcal//NONSGML v1.0//EN
BEGIN:VEVENT
SUMMARY:SAINT PAUL  -  L'etang des landes - J 5 nov 2026
UID:581d36b1-4d50-4f21-a38b-9a43a8a1c045
DTSTART:20261104T230000Z
DTEND:20261105T230000Z
LOCATION:Localisation   
CATEGORIES:Sportif
STATUS:
DESCRIPTION:<p>Rando facile  -  10 km  ou   6 km</p>
 
 <p>Rdv :
 13h30 a l'Office du Tourisme de St Leo  </p>
 
 <p>  ou    13h45 
 Parking St Paul a gauche </p>
 
 <p>Covoiturage  :  2 €  (32 km
 aller/retour)</p>
 
 <p>Responsable : Chantal L  ( 06 98 51 86 18 )
 Josiane P  - Paule R</p>
URL;VALUE=URI:https://miauletourando.sportsregions.fr/evenements/2026/11/05/saint-paul-letang-des-landes-j-5-nov-2026-2431553
END:VEVENT
END:VCALENDAR
