BEGIN:VCALENDAR
VERSION:2.0
PRODID:-//hacksw/handcal//NONSGML v1.0//EN
BEGIN:VEVENT
SUMMARY:Randonnee dans le cadre du Telethon - St Leonard  - S 5 decembre 2026
UID:103907b5-aaa8-43e4-bf11-69d20c122aec
DTSTART:20261204T230000Z
DTEND:20261205T230000Z
LOCATION:Localisation   
CATEGORIES:Sportif
STATUS:
DESCRIPTION:<p>info a venir</p>
URL;VALUE=URI:https://miauletourando.sportsregions.fr/evenements/2026/12/05/randonnee-dans-le-cadre-du-telethon-st-leonard-s-5-decembre-2026-2431564
END:VEVENT
END:VCALENDAR
