BEGIN:VCALENDAR
VERSION:2.0
PRODID:-//hacksw/handcal//NONSGML v1.0//EN
BEGIN:VEVENT
SUMMARY:LIMOGES  -  Boucle de la porcelaine - D 13 decembre 2026
UID:a761d4bd-daed-4198-b5fb-6db0bbf8aa97
DTSTART:20261212T230000Z
DTEND:20261213T230000Z
LOCATION:Localisation   
CATEGORIES:Sportif
STATUS:
DESCRIPTION:<p>Niveau : Moyen  -  10 km</p>
 
 <p>Rendez vous :
 13h30  a l'Office du Tourisme de St Leo</p>
 
 <p>Covoiturage : 3
 €  (46 km )</p>
 
 <p>Responsable : Laurence B  (06 77 51 45
 84)</p>
 
 <p> </p>
URL;VALUE=URI:https://miauletourando.sportsregions.fr/evenements/2026/12/13/limoges-boucle-de-la-porcelaine-d-13-decembre-2026-2431565
END:VEVENT
END:VCALENDAR
